BEGIN:VCALENDAR
VERSION:2.0
PRODID:EVENTFROG//EVENTGROUP//ICAL
BEGIN:VEVENT
UID:20260426T035006Z-7394867295577745737@eventfrog.ch
DTSTAMP:20260426T035006Z
DTSTART:20260514T123000Z
DTEND:20260514T143000Z
SUMMARY:TiM Café
DESCRIPTION:TiM Café stärkt das Miteinander, fördert Begegnungen.\n\nhttps://eventfrog.ch/de/p/kunst-ausstellungen/tim-cafe-7394867295577745737.html
LOCATION:Kunstmuseum St. Gallen
GEO:47.427814;9.381619
URL:https://eventfrog.ch/de/p/kunst-ausstellungen/tim-cafe-7394867295577745737.html
END:VEVENT
BEGIN:VEVENT
UID:20260426T035006Z-7394867295745517898@eventfrog.ch
DTSTAMP:20260426T035006Z
DTSTART:20260611T123000Z
DTEND:20260611T143000Z
SUMMARY:TiM Café
DESCRIPTION:TiM Café stärkt das Miteinander, fördert Begegnungen.\n\nhttps://eventfrog.ch/de/p/kunst-ausstellungen/tim-cafe-7394867295745517898.html
LOCATION:Kunstmuseum St. Gallen
GEO:47.427814;9.381619
URL:https://eventfrog.ch/de/p/kunst-ausstellungen/tim-cafe-7394867295745517898.html
END:VEVENT
BEGIN:VEVENT
UID:20260426T035006Z-7394867295904901451@eventfrog.ch
DTSTAMP:20260426T035006Z
DTSTART:20260709T123000Z
DTEND:20260709T143000Z
SUMMARY:TiM Café
DESCRIPTION:TiM Café stärkt das Miteinander, fördert Begegnungen.\n\nhttps://eventfrog.ch/de/p/kunst-ausstellungen/tim-cafe-7394867295904901451.html
LOCATION:Kunstmuseum St. Gallen
GEO:47.427814;9.381619
URL:https://eventfrog.ch/de/p/kunst-ausstellungen/tim-cafe-7394867295904901451.html
END:VEVENT
BEGIN:VEVENT
UID:20260426T035006Z-7394867296076867916@eventfrog.ch
DTSTAMP:20260426T035006Z
DTSTART:20260813T123000Z
DTEND:20260813T143000Z
SUMMARY:TiM Café
DESCRIPTION:TiM Café stärkt das Miteinander, fördert Begegnungen.\n\nhttps://eventfrog.ch/de/p/kunst-ausstellungen/tim-cafe-7394867296076867916.html
LOCATION:Kunstmuseum St. Gallen
GEO:47.427814;9.381619
URL:https://eventfrog.ch/de/p/kunst-ausstellungen/tim-cafe-7394867296076867916.html
END:VEVENT
BEGIN:VEVENT
UID:20260426T035006Z-7394867296240445773@eventfrog.ch
DTSTAMP:20260426T035006Z
DTSTART:20260910T123000Z
DTEND:20260910T143000Z
SUMMARY:TiM Café
DESCRIPTION:TiM Café stärkt das Miteinander, fördert Begegnungen.\n\nhttps://eventfrog.ch/de/p/kunst-ausstellungen/tim-cafe-7394867296240445773.html
LOCATION:Kunstmuseum St. Gallen
GEO:47.427814;9.381619
URL:https://eventfrog.ch/de/p/kunst-ausstellungen/tim-cafe-7394867296240445773.html
END:VEVENT
BEGIN:VEVENT
UID:20260426T035006Z-7394867296412412238@eventfrog.ch
DTSTAMP:20260426T035006Z
DTSTART:20261008T123000Z
DTEND:20261008T143000Z
SUMMARY:TiM Café
DESCRIPTION:TiM Café stärkt das Miteinander, fördert Begegnungen.\n\nhttps://eventfrog.ch/de/p/kunst-ausstellungen/tim-cafe-7394867296412412238.html
LOCATION:Kunstmuseum St. Gallen
GEO:47.427814;9.381619
URL:https://eventfrog.ch/de/p/kunst-ausstellungen/tim-cafe-7394867296412412238.html
END:VEVENT
BEGIN:VEVENT
UID:20260426T035006Z-7394867296580184399@eventfrog.ch
DTSTAMP:20260426T035006Z
DTSTART:20261112T133000Z
DTEND:20261112T153000Z
SUMMARY:TiM Café
DESCRIPTION:TiM Café stärkt das Miteinander, fördert Begegnungen.\n\nhttps://eventfrog.ch/de/p/kunst-ausstellungen/tim-cafe-7394867296580184399.html
LOCATION:Kunstmuseum St. Gallen
GEO:47.427814;9.381619
URL:https://eventfrog.ch/de/p/kunst-ausstellungen/tim-cafe-7394867296580184399.html
END:VEVENT
BEGIN:VEVENT
UID:20260426T035006Z-7394867296764733776@eventfrog.ch
DTSTAMP:20260426T035006Z
DTSTART:20261210T133000Z
DTEND:20261210T153000Z
SUMMARY:TiM Café
DESCRIPTION:TiM Café stärkt das Miteinander, fördert Begegnungen.\n\nhttps://eventfrog.ch/de/p/kunst-ausstellungen/tim-cafe-7394867296764733776.html
LOCATION:Kunstmuseum St. Gallen
GEO:47.427814;9.381619
URL:https://eventfrog.ch/de/p/kunst-ausstellungen/tim-cafe-7394867296764733776.html
END:VEVENT
END:VCALENDAR