BEGIN:VCALENDAR
VERSION:2.0
PRODID:EVENTFROG//EVENTGROUP//ICAL
BEGIN:VEVENT
UID:20260424T063653Z-7439441696985769939@eventfrog.ch
DTSTAMP:20260424T063653Z
DTSTART:20260429T130000Z
SUMMARY:Captain Schnuppes Weltraumreise
DESCRIPTION:Abenteuer mit Illustrationen von Jochen Stuhrmann.\n\nhttps://eventfrog.ch/de/p/wissenschaft-und-technik/captain-schnuppes-weltraumreise-7439441696985769939.html
LOCATION:Planetarium | Bodensee
GEO:47.641511;9.159443
URL:https://eventfrog.ch/de/p/wissenschaft-und-technik/captain-schnuppes-weltraumreise-7439441696985769939.html
END:VEVENT
BEGIN:VEVENT
UID:20260424T063653Z-7452110615655538435@eventfrog.ch
DTSTAMP:20260424T063653Z
DTSTART:20260513T130000Z
SUMMARY:Captain Schnuppes Weltraumreise
DESCRIPTION:Abenteuer mit Illustrationen von Jochen Stuhrmann.\n\nhttps://eventfrog.ch/de/p/wissenschaft-und-technik/captain-schnuppes-weltraumreise-7452110615655538435.html
LOCATION:Planetarium | Bodensee
GEO:47.641511;9.159443
URL:https://eventfrog.ch/de/p/wissenschaft-und-technik/captain-schnuppes-weltraumreise-7452110615655538435.html
END:VEVENT
BEGIN:VEVENT
UID:20260424T063653Z-7452110615831699204@eventfrog.ch
DTSTAMP:20260424T063653Z
DTSTART:20260525T120000Z
SUMMARY:Captain Schnuppes Weltraumreise
DESCRIPTION:Abenteuer mit Illustrationen von Jochen Stuhrmann.\n\nhttps://eventfrog.ch/de/p/wissenschaft-und-technik/captain-schnuppes-weltraumreise-7452110615831699204.html
LOCATION:Planetarium | Bodensee
GEO:47.641511;9.159443
URL:https://eventfrog.ch/de/p/wissenschaft-und-technik/captain-schnuppes-weltraumreise-7452110615831699204.html
END:VEVENT
END:VCALENDAR