BEGIN:VCALENDAR
VERSION:2.0
PRODID:EVENTFROG//EVENTGROUP//ICAL
BEGIN:VEVENT
UID:20260425T205431Z-7417336381544897268@eventfrog.ch
DTSTAMP:20260425T205431Z
DTSTART:20260530T091100Z
DTEND:20260530T094500Z
SUMMARY:Orgel-Matinée Elf nach Elf - Blech und Holz
DESCRIPTION:Orgel-Matinée Elf nach Elf - Blech und Holz\n\nhttps://eventfrog.ch/de/p/konzerte/orgel-matinee-elf-nach-elf-blech-und-holz-7417336381544897268.html
LOCATION:Evangelische Kirche Amriswil
GEO:47.544855;9.297584
URL:https://eventfrog.ch/de/p/konzerte/orgel-matinee-elf-nach-elf-blech-und-holz-7417336381544897268.html
END:VEVENT
END:VCALENDAR