BEGIN:VCALENDAR
VERSION:2.0
PRODID:EVENTFROG//EVENTGROUP//ICAL
BEGIN:VEVENT
UID:20260424T161548Z-7453093619974538069@eventfrog.ch
DTSTAMP:20260424T161548Z
DTSTART:20260423T110000Z
DTEND:20260423T160000Z
SUMMARY:Free training session: The 360°-CORE training of tomorrow.
DESCRIPTION:Gratis Probesession für das wohl schnellste & verrückteste Rumpftraining// FREE TRAINING SESSION FOR THE CORE TRAINING OF TOMORROW.\n\nEinsteigen. Drehen. Spüren. 360 Grad-Rumpfmuskeltraining.\n\n\n\nhttps://eventfrog.ch/de/p/sport-fitness/fitness/free-training-session-the-360-core-training-of-tomorrow-7453093619974538069.html
LOCATION:RT360 AG - das Rumpfmuskeltraining der Zukunft
GEO:47.367520;8.559867
URL:https://eventfrog.ch/de/p/sport-fitness/fitness/free-training-session-the-360-core-training-of-tomorrow-7453093619974538069.html
END:VEVENT
BEGIN:VEVENT
UID:20260424T161548Z-7453093620071007063@eventfrog.ch
DTSTAMP:20260424T161548Z
DTSTART:20260430T110000Z
DTEND:20260430T160000Z
SUMMARY:Free training session: The 360°-CORE training of tomorrow.
DESCRIPTION:Gratis Probesession für das wohl schnellste & verrückteste Rumpftraining// FREE TRAINING SESSION FOR THE CORE TRAINING OF TOMORROW.\n\nEinsteigen. Drehen. Spüren. 360 Grad-Rumpfmuskeltraining.\n\n\n\nhttps://eventfrog.ch/de/p/sport-fitness/fitness/free-training-session-the-360-core-training-of-tomorrow-7453093620071007063.html
LOCATION:RT360 AG - das Rumpfmuskeltraining der Zukunft
GEO:47.367520;8.559867
URL:https://eventfrog.ch/de/p/sport-fitness/fitness/free-training-session-the-360-core-training-of-tomorrow-7453093620071007063.html
END:VEVENT
BEGIN:VEVENT
UID:20260424T161548Z-7453093620133921625@eventfrog.ch
DTSTAMP:20260424T161548Z
DTSTART:20260507T110000Z
DTEND:20260507T160000Z
SUMMARY:Free training session: The 360°-CORE training of tomorrow.
DESCRIPTION:Gratis Probesession für das wohl schnellste & verrückteste Rumpftraining// FREE TRAINING SESSION FOR THE CORE TRAINING OF TOMORROW.\n\nEinsteigen. Drehen. Spüren. 360 Grad-Rumpfmuskeltraining.\n\n\n\nhttps://eventfrog.ch/de/p/sport-fitness/fitness/free-training-session-the-360-core-training-of-tomorrow-7453093620133921625.html
LOCATION:RT360 AG - das Rumpfmuskeltraining der Zukunft
GEO:47.367520;8.559867
URL:https://eventfrog.ch/de/p/sport-fitness/fitness/free-training-session-the-360-core-training-of-tomorrow-7453093620133921625.html
END:VEVENT
BEGIN:VEVENT
UID:20260424T161548Z-7453093620196836187@eventfrog.ch
DTSTAMP:20260424T161548Z
DTSTART:20260514T110000Z
DTEND:20260514T160000Z
SUMMARY:Free training session: The 360°-CORE training of tomorrow.
DESCRIPTION:Gratis Probesession für das wohl schnellste & verrückteste Rumpftraining// FREE TRAINING SESSION FOR THE CORE TRAINING OF TOMORROW.\n\nEinsteigen. Drehen. Spüren. 360 Grad-Rumpfmuskeltraining.\n\n\n\nhttps://eventfrog.ch/de/p/sport-fitness/fitness/free-training-session-the-360-core-training-of-tomorrow-7453093620196836187.html
LOCATION:RT360 AG - das Rumpfmuskeltraining der Zukunft
GEO:47.367520;8.559867
URL:https://eventfrog.ch/de/p/sport-fitness/fitness/free-training-session-the-360-core-training-of-tomorrow-7453093620196836187.html
END:VEVENT
BEGIN:VEVENT
UID:20260424T161548Z-7453093620268139357@eventfrog.ch
DTSTAMP:20260424T161548Z
DTSTART:20260521T110000Z
DTEND:20260521T160000Z
SUMMARY:Free training session: The 360°-CORE training of tomorrow.
DESCRIPTION:Gratis Probesession für das wohl schnellste & verrückteste Rumpftraining// FREE TRAINING SESSION FOR THE CORE TRAINING OF TOMORROW.\n\nEinsteigen. Drehen. Spüren. 360 Grad-Rumpfmuskeltraining.\n\n\n\nhttps://eventfrog.ch/de/p/sport-fitness/fitness/free-training-session-the-360-core-training-of-tomorrow-7453093620268139357.html
LOCATION:RT360 AG - das Rumpfmuskeltraining der Zukunft
GEO:47.367520;8.559867
URL:https://eventfrog.ch/de/p/sport-fitness/fitness/free-training-session-the-360-core-training-of-tomorrow-7453093620268139357.html
END:VEVENT
BEGIN:VEVENT
UID:20260424T161548Z-7453093620331053919@eventfrog.ch
DTSTAMP:20260424T161548Z
DTSTART:20260528T110000Z
DTEND:20260528T160000Z
SUMMARY:Free training session: The 360°-CORE training of tomorrow.
DESCRIPTION:Gratis Probesession für das wohl schnellste & verrückteste Rumpftraining// FREE TRAINING SESSION FOR THE CORE TRAINING OF TOMORROW.\n\nEinsteigen. Drehen. Spüren. 360 Grad-Rumpfmuskeltraining.\n\n\n\nhttps://eventfrog.ch/de/p/sport-fitness/fitness/free-training-session-the-360-core-training-of-tomorrow-7453093620331053919.html
LOCATION:RT360 AG - das Rumpfmuskeltraining der Zukunft
GEO:47.367520;8.559867
URL:https://eventfrog.ch/de/p/sport-fitness/fitness/free-training-session-the-360-core-training-of-tomorrow-7453093620331053919.html
END:VEVENT
END:VCALENDAR