BEGIN:VCALENDAR
VERSION:2.0
PRODID:EVENTFROG//EVENTGROUP//ICAL
BEGIN:VEVENT
UID:20260425T021233Z-7453384345572636564@eventfrog.ch
DTSTAMP:20260425T021233Z
DTSTART:20260629T073000Z
DTEND:20260629T143000Z
SUMMARY:Workshop: Energetisches Mochila-Nähen
DESCRIPTION:Exklusiver Workshop: Energetische Nähen von Kogi-/Muisca-Mochilas. Tauche ein in die tiefe symbolische Bedeutung von Form, Material, Farben, Mustern dieser indigenen Völker aus dem Norden Kolumbiens.\n\nhttps://eventfrog.ch/de/p/kurse-seminare/kunst-kultur/workshop-energetisches-mochila-naehen-7453384345572636564.html
LOCATION:Rebhaus Watt
GEO:47.445428;8.489197
URL:https://eventfrog.ch/de/p/kurse-seminare/kunst-kultur/workshop-energetisches-mochila-naehen-7453384345572636564.html
END:VEVENT
END:VCALENDAR