BEGIN:VCALENDAR
VERSION:2.0
PRODID:EVENTFROG//EVENTGROUP//ICAL
BEGIN:VEVENT
UID:20260425T221627Z-7453438199811068253@eventfrog.ch
DTSTAMP:20260425T221627Z
DTSTART:20260501T170000Z
DTEND:20260501T190000Z
SUMMARY:SPIGAR Würdigung seines Schaffens
DESCRIPTION:Der bekannte Rheintaler Künstler SPIGAR stellt im Kulturraum Stellwerk Heerbrugg aus. Unverkennbar sind seine tanzenden Figuren.\n\nhttps://eventfrog.ch/de/p/kunst-ausstellungen/kultur/spigar-wuerdigung-seines-schaffens-7453438199811068253.html
LOCATION:Kulturraum Stellwerk Heerbrugg
GEO:47.411361;9.629330
URL:https://eventfrog.ch/de/p/kunst-ausstellungen/kultur/spigar-wuerdigung-seines-schaffens-7453438199811068253.html
END:VEVENT
BEGIN:VEVENT
UID:20260425T221627Z-7453438317553581187@eventfrog.ch
DTSTAMP:20260425T221627Z
DTSTART:20260502T120000Z
DTEND:20260502T160000Z
SUMMARY:SPIGAR Würdigung seines Schaffens
DESCRIPTION:Der bekannte Rheintaler Künstler SPIGAR stellt im Kulturraum Stellwerk Heerbrugg aus. Unverkennbar sind seine tanzenden Figuren.\n\nhttps://eventfrog.ch/de/p/kunst-ausstellungen/kultur/spigar-wuerdigung-seines-schaffens-7453438317553581187.html
LOCATION:Kulturraum Stellwerk Heerbrugg
GEO:47.411361;9.629330
URL:https://eventfrog.ch/de/p/kunst-ausstellungen/kultur/spigar-wuerdigung-seines-schaffens-7453438317553581187.html
END:VEVENT
BEGIN:VEVENT
UID:20260425T221627Z-7453438317784267909@eventfrog.ch
DTSTAMP:20260425T221627Z
DTSTART:20260503T120000Z
DTEND:20260503T160000Z
SUMMARY:SPIGAR Würdigung seines Schaffens
DESCRIPTION:Der bekannte Rheintaler Künstler SPIGAR stellt im Kulturraum Stellwerk Heerbrugg aus. Unverkennbar sind seine tanzenden Figuren.\n\nhttps://eventfrog.ch/de/p/kunst-ausstellungen/kultur/spigar-wuerdigung-seines-schaffens-7453438317784267909.html
LOCATION:Kulturraum Stellwerk Heerbrugg
GEO:47.411361;9.629330
URL:https://eventfrog.ch/de/p/kunst-ausstellungen/kultur/spigar-wuerdigung-seines-schaffens-7453438317784267909.html
END:VEVENT
BEGIN:VEVENT
UID:20260425T221627Z-7453438317905903257@eventfrog.ch
DTSTAMP:20260425T221627Z
DTSTART:20260508T160000Z
DTEND:20260508T180000Z
SUMMARY:SPIGAR Würdigung seines Schaffens
DESCRIPTION:Der bekannte Rheintaler Künstler SPIGAR stellt im Kulturraum Stellwerk Heerbrugg aus. Unverkennbar sind seine tanzenden Figuren.\n\nhttps://eventfrog.ch/de/p/kunst-ausstellungen/kultur/spigar-wuerdigung-seines-schaffens-7453438317905903257.html
LOCATION:Kulturraum Stellwerk Heerbrugg
GEO:47.411361;9.629330
URL:https://eventfrog.ch/de/p/kunst-ausstellungen/kultur/spigar-wuerdigung-seines-schaffens-7453438317905903257.html
END:VEVENT
BEGIN:VEVENT
UID:20260425T221627Z-7453438318035926783@eventfrog.ch
DTSTAMP:20260425T221627Z
DTSTART:20260509T120000Z
DTEND:20260509T160000Z
SUMMARY:SPIGAR Würdigung seines Schaffens
DESCRIPTION:Der bekannte Rheintaler Künstler SPIGAR stellt im Kulturraum Stellwerk Heerbrugg aus. Unverkennbar sind seine tanzenden Figuren.\n\nhttps://eventfrog.ch/de/p/kunst-ausstellungen/kultur/spigar-wuerdigung-seines-schaffens-7453438318035926783.html
LOCATION:Kulturraum Stellwerk Heerbrugg
GEO:47.411361;9.629330
URL:https://eventfrog.ch/de/p/kunst-ausstellungen/kultur/spigar-wuerdigung-seines-schaffens-7453438318035926783.html
END:VEVENT
BEGIN:VEVENT
UID:20260425T221627Z-7453438318157561601@eventfrog.ch
DTSTAMP:20260425T221627Z
DTSTART:20260510T120000Z
DTEND:20260510T160000Z
SUMMARY:SPIGAR Würdigung seines Schaffens
DESCRIPTION:Der bekannte Rheintaler Künstler SPIGAR stellt im Kulturraum Stellwerk Heerbrugg aus. Unverkennbar sind seine tanzenden Figuren.\n\nhttps://eventfrog.ch/de/p/kunst-ausstellungen/kultur/spigar-wuerdigung-seines-schaffens-7453438318157561601.html
LOCATION:Kulturraum Stellwerk Heerbrugg
GEO:47.411361;9.629330
URL:https://eventfrog.ch/de/p/kunst-ausstellungen/kultur/spigar-wuerdigung-seines-schaffens-7453438318157561601.html
END:VEVENT
END:VCALENDAR