BEGIN:VCALENDAR
VERSION:2.0
PRODID:EVENTFROG//EVENTGROUP//ICAL
BEGIN:VEVENT
UID:20260425T114729Z-7453544227093381826@eventfrog.ch
DTSTAMP:20260425T114729Z
DTSTART:20260425T140000Z
DTEND:20260425T150000Z
SUMMARY:Das Superheldenpuppentheater
DESCRIPTION:Ein Puppentheatergastspiel für die ganze Familie \n\nIn Delbrück auf dem Schützenplatz \nWeitere Infos auf unsere Facebookseite \nKindertheater Corellino \n\nhttps://eventfrog.ch/de/p/kinderveranstaltungen/puppentheater/das-superheldenpuppentheater-7453544227093381826.html
LOCATION:Schützenplatz St. Johannes Delbrück
GEO:51.760361;8.568019
URL:https://eventfrog.ch/de/p/kinderveranstaltungen/puppentheater/das-superheldenpuppentheater-7453544227093381826.html
END:VEVENT
BEGIN:VEVENT
UID:20260425T114729Z-7453544447579583569@eventfrog.ch
DTSTAMP:20260425T114729Z
DTSTART:20260426T130000Z
DTEND:20260426T140000Z
SUMMARY:Das Superheldenpuppentheater
DESCRIPTION:Ein Puppentheatergastspiel für die ganze Familie \n\nIn Delbrück auf dem Schützenplatz \nWeitere Infos auf unsere Facebookseite \nKindertheater Corellino \n\nhttps://eventfrog.ch/de/p/kinderveranstaltungen/puppentheater/das-superheldenpuppentheater-7453544447579583569.html
LOCATION:Schützenplatz St. Johannes Delbrück
GEO:51.760361;8.568019
URL:https://eventfrog.ch/de/p/kinderveranstaltungen/puppentheater/das-superheldenpuppentheater-7453544447579583569.html
END:VEVENT
BEGIN:VEVENT
UID:20260425T114729Z-7453544447936100064@eventfrog.ch
DTSTAMP:20260425T114729Z
DTSTART:20260427T140000Z
DTEND:20260427T150000Z
SUMMARY:Das Superheldenpuppentheater
DESCRIPTION:Ein Puppentheatergastspiel für die ganze Familie \n\nIn Delbrück auf dem Schützenplatz \nWeitere Infos auf unsere Facebookseite \nKindertheater Corellino \n\nhttps://eventfrog.ch/de/p/kinderveranstaltungen/puppentheater/das-superheldenpuppentheater-7453544447936100064.html
LOCATION:Schützenplatz St. Johannes Delbrück
GEO:51.760361;8.568019
URL:https://eventfrog.ch/de/p/kinderveranstaltungen/puppentheater/das-superheldenpuppentheater-7453544447936100064.html
END:VEVENT
BEGIN:VEVENT
UID:20260425T114729Z-7453544448070317834@eventfrog.ch
DTSTAMP:20260425T114729Z
DTSTART:20260428T140000Z
DTEND:20260428T150000Z
SUMMARY:Das Superheldenpuppentheater
DESCRIPTION:Ein Puppentheatergastspiel für die ganze Familie \n\nIn Delbrück auf dem Schützenplatz \nWeitere Infos auf unsere Facebookseite \nKindertheater Corellino \n\nhttps://eventfrog.ch/de/p/kinderveranstaltungen/puppentheater/das-superheldenpuppentheater-7453544448070317834.html
LOCATION:Schützenplatz St. Johannes Delbrück
GEO:51.760361;8.568019
URL:https://eventfrog.ch/de/p/kinderveranstaltungen/puppentheater/das-superheldenpuppentheater-7453544448070317834.html
END:VEVENT
BEGIN:VEVENT
UID:20260425T114729Z-7453544448200341289@eventfrog.ch
DTSTAMP:20260425T114729Z
DTSTART:20260501T140000Z
DTEND:20260501T150000Z
SUMMARY:Das Superheldenpuppentheater
DESCRIPTION:Ein Puppentheatergastspiel für die ganze Familie \n\nIn Delbrück auf dem Schützenplatz \nWeitere Infos auf unsere Facebookseite \nKindertheater Corellino \n\nhttps://eventfrog.ch/de/p/kinderveranstaltungen/puppentheater/das-superheldenpuppentheater-7453544448200341289.html
LOCATION:Schützenplatz St. Johannes Delbrück
GEO:51.760361;8.568019
URL:https://eventfrog.ch/de/p/kinderveranstaltungen/puppentheater/das-superheldenpuppentheater-7453544448200341289.html
END:VEVENT
BEGIN:VEVENT
UID:20260425T114729Z-7453544448326170413@eventfrog.ch
DTSTAMP:20260425T114729Z
DTSTART:20260502T140000Z
DTEND:20260502T150000Z
SUMMARY:Das Superheldenpuppentheater
DESCRIPTION:Ein Puppentheatergastspiel für die ganze Familie \n\nIn Delbrück auf dem Schützenplatz \nWeitere Infos auf unsere Facebookseite \nKindertheater Corellino \n\nhttps://eventfrog.ch/de/p/kinderveranstaltungen/puppentheater/das-superheldenpuppentheater-7453544448326170413.html
LOCATION:Schützenplatz St. Johannes Delbrück
GEO:51.760361;8.568019
URL:https://eventfrog.ch/de/p/kinderveranstaltungen/puppentheater/das-superheldenpuppentheater-7453544448326170413.html
END:VEVENT
BEGIN:VEVENT
UID:20260425T114729Z-7453544448460388144@eventfrog.ch
DTSTAMP:20260425T114729Z
DTSTART:20260503T090000Z
DTEND:20260503T100000Z
SUMMARY:Das Superheldenpuppentheater
DESCRIPTION:Ein Puppentheatergastspiel für die ganze Familie \n\nIn Delbrück auf dem Schützenplatz \nWeitere Infos auf unsere Facebookseite \nKindertheater Corellino \n\nhttps://eventfrog.ch/de/p/kinderveranstaltungen/puppentheater/das-superheldenpuppentheater-7453544448460388144.html
LOCATION:Schützenplatz St. Johannes Delbrück
GEO:51.760361;8.568019
URL:https://eventfrog.ch/de/p/kinderveranstaltungen/puppentheater/das-superheldenpuppentheater-7453544448460388144.html
END:VEVENT
END:VCALENDAR