BEGIN:VCALENDAR
VERSION:2.0
PRODID:EVENTFROG//EVENTGROUP//ICAL
BEGIN:VEVENT
UID:20260425T142630Z-7453558562838605900@eventfrog.ch
DTSTAMP:20260425T142630Z
DTSTART:20260427T080000Z
DTEND:20260427T170000Z
SUMMARY:Access Bars Therapy – Deep Mental Reset (Zurich)
DESCRIPTION: Access Bars® sessions in Zurich for deep mental reset, stress relief and better sleep.\n\nhttps://eventfrog.ch/en/p/health-spirituality/health-wellbeing/access-bars-therapy-deep-mental-reset-zurich-7453558562838605900.html
LOCATION:À annoncer
URL:https://eventfrog.ch/en/p/health-spirituality/health-wellbeing/access-bars-therapy-deep-mental-reset-zurich-7453558562838605900.html
END:VEVENT
BEGIN:VEVENT
UID:20260425T142630Z-7453558562905714800@eventfrog.ch
DTSTAMP:20260425T142630Z
DTSTART:20260428T080000Z
DTEND:20260428T170000Z
SUMMARY:Access Bars Therapy – Deep Mental Reset (Zurich)
DESCRIPTION: Access Bars® sessions in Zurich for deep mental reset, stress relief and better sleep.\n\nhttps://eventfrog.ch/en/p/health-spirituality/health-wellbeing/access-bars-therapy-deep-mental-reset-zurich-7453558562905714800.html
LOCATION:À annoncer
URL:https://eventfrog.ch/en/p/health-spirituality/health-wellbeing/access-bars-therapy-deep-mental-reset-zurich-7453558562905714800.html
END:VEVENT
BEGIN:VEVENT
UID:20260425T142630Z-7453558562968629362@eventfrog.ch
DTSTAMP:20260425T142630Z
DTSTART:20260429T080000Z
DTEND:20260429T170000Z
SUMMARY:Access Bars Therapy – Deep Mental Reset (Zurich)
DESCRIPTION: Access Bars® sessions in Zurich for deep mental reset, stress relief and better sleep.\n\nhttps://eventfrog.ch/en/p/health-spirituality/health-wellbeing/access-bars-therapy-deep-mental-reset-zurich-7453558562968629362.html
LOCATION:À annoncer
URL:https://eventfrog.ch/en/p/health-spirituality/health-wellbeing/access-bars-therapy-deep-mental-reset-zurich-7453558562968629362.html
END:VEVENT
BEGIN:VEVENT
UID:20260425T142630Z-7453558563039932532@eventfrog.ch
DTSTAMP:20260425T142630Z
DTSTART:20260430T080000Z
DTEND:20260430T170000Z
SUMMARY:Access Bars Therapy – Deep Mental Reset (Zurich)
DESCRIPTION: Access Bars® sessions in Zurich for deep mental reset, stress relief and better sleep.\n\nhttps://eventfrog.ch/en/p/health-spirituality/health-wellbeing/access-bars-therapy-deep-mental-reset-zurich-7453558563039932532.html
LOCATION:À annoncer
URL:https://eventfrog.ch/en/p/health-spirituality/health-wellbeing/access-bars-therapy-deep-mental-reset-zurich-7453558563039932532.html
END:VEVENT
BEGIN:VEVENT
UID:20260425T142630Z-7453558563107041398@eventfrog.ch
DTSTAMP:20260425T142630Z
DTSTART:20260501T080000Z
DTEND:20260501T170000Z
SUMMARY:Access Bars Therapy – Deep Mental Reset (Zurich)
DESCRIPTION: Access Bars® sessions in Zurich for deep mental reset, stress relief and better sleep.\n\nhttps://eventfrog.ch/en/p/health-spirituality/health-wellbeing/access-bars-therapy-deep-mental-reset-zurich-7453558563107041398.html
LOCATION:À annoncer
URL:https://eventfrog.ch/en/p/health-spirituality/health-wellbeing/access-bars-therapy-deep-mental-reset-zurich-7453558563107041398.html
END:VEVENT
BEGIN:VEVENT
UID:20260425T142630Z-7453558563195121807@eventfrog.ch
DTSTAMP:20260425T142630Z
DTSTART:20260504T080000Z
DTEND:20260504T170000Z
SUMMARY:Access Bars Therapy – Deep Mental Reset (Zurich)
DESCRIPTION: Access Bars® sessions in Zurich for deep mental reset, stress relief and better sleep.\n\nhttps://eventfrog.ch/en/p/health-spirituality/health-wellbeing/access-bars-therapy-deep-mental-reset-zurich-7453558563195121807.html
LOCATION:À annoncer
URL:https://eventfrog.ch/en/p/health-spirituality/health-wellbeing/access-bars-therapy-deep-mental-reset-zurich-7453558563195121807.html
END:VEVENT
BEGIN:VEVENT
UID:20260425T142630Z-7453558563262230673@eventfrog.ch
DTSTAMP:20260425T142630Z
DTSTART:20260505T080000Z
DTEND:20260505T170000Z
SUMMARY:Access Bars Therapy – Deep Mental Reset (Zurich)
DESCRIPTION: Access Bars® sessions in Zurich for deep mental reset, stress relief and better sleep.\n\nhttps://eventfrog.ch/en/p/health-spirituality/health-wellbeing/access-bars-therapy-deep-mental-reset-zurich-7453558563262230673.html
LOCATION:À annoncer
URL:https://eventfrog.ch/en/p/health-spirituality/health-wellbeing/access-bars-therapy-deep-mental-reset-zurich-7453558563262230673.html
END:VEVENT
BEGIN:VEVENT
UID:20260425T142630Z-7453558563325145235@eventfrog.ch
DTSTAMP:20260425T142630Z
DTSTART:20260506T080000Z
DTEND:20260506T170000Z
SUMMARY:Access Bars Therapy – Deep Mental Reset (Zurich)
DESCRIPTION: Access Bars® sessions in Zurich for deep mental reset, stress relief and better sleep.\n\nhttps://eventfrog.ch/en/p/health-spirituality/health-wellbeing/access-bars-therapy-deep-mental-reset-zurich-7453558563325145235.html
LOCATION:À annoncer
URL:https://eventfrog.ch/en/p/health-spirituality/health-wellbeing/access-bars-therapy-deep-mental-reset-zurich-7453558563325145235.html
END:VEVENT
BEGIN:VEVENT
UID:20260425T142630Z-7453558563388059797@eventfrog.ch
DTSTAMP:20260425T142630Z
DTSTART:20260507T080000Z
DTEND:20260507T170000Z
SUMMARY:Access Bars Therapy – Deep Mental Reset (Zurich)
DESCRIPTION: Access Bars® sessions in Zurich for deep mental reset, stress relief and better sleep.\n\nhttps://eventfrog.ch/en/p/health-spirituality/health-wellbeing/access-bars-therapy-deep-mental-reset-zurich-7453558563388059797.html
LOCATION:À annoncer
URL:https://eventfrog.ch/en/p/health-spirituality/health-wellbeing/access-bars-therapy-deep-mental-reset-zurich-7453558563388059797.html
END:VEVENT
BEGIN:VEVENT
UID:20260425T142630Z-7453558563446780055@eventfrog.ch
DTSTAMP:20260425T142630Z
DTSTART:20260508T080000Z
DTEND:20260508T170000Z
SUMMARY:Access Bars Therapy – Deep Mental Reset (Zurich)
DESCRIPTION: Access Bars® sessions in Zurich for deep mental reset, stress relief and better sleep.\n\nhttps://eventfrog.ch/en/p/health-spirituality/health-wellbeing/access-bars-therapy-deep-mental-reset-zurich-7453558563446780055.html
LOCATION:À annoncer
URL:https://eventfrog.ch/en/p/health-spirituality/health-wellbeing/access-bars-therapy-deep-mental-reset-zurich-7453558563446780055.html
END:VEVENT
BEGIN:VEVENT
UID:20260425T142630Z-7453558563509694617@eventfrog.ch
DTSTAMP:20260425T142630Z
DTSTART:20260511T080000Z
DTEND:20260511T170000Z
SUMMARY:Access Bars Therapy – Deep Mental Reset (Zurich)
DESCRIPTION: Access Bars® sessions in Zurich for deep mental reset, stress relief and better sleep.\n\nhttps://eventfrog.ch/en/p/health-spirituality/health-wellbeing/access-bars-therapy-deep-mental-reset-zurich-7453558563509694617.html
LOCATION:À annoncer
URL:https://eventfrog.ch/en/p/health-spirituality/health-wellbeing/access-bars-therapy-deep-mental-reset-zurich-7453558563509694617.html
END:VEVENT
BEGIN:VEVENT
UID:20260425T142630Z-7453558563572609180@eventfrog.ch
DTSTAMP:20260425T142630Z
DTSTART:20260512T080000Z
DTEND:20260512T170000Z
SUMMARY:Access Bars Therapy – Deep Mental Reset (Zurich)
DESCRIPTION: Access Bars® sessions in Zurich for deep mental reset, stress relief and better sleep.\n\nhttps://eventfrog.ch/en/p/health-spirituality/health-wellbeing/access-bars-therapy-deep-mental-reset-zurich-7453558563572609180.html
LOCATION:À annoncer
URL:https://eventfrog.ch/en/p/health-spirituality/health-wellbeing/access-bars-therapy-deep-mental-reset-zurich-7453558563572609180.html
END:VEVENT
BEGIN:VEVENT
UID:20260425T142630Z-7453558563660689566@eventfrog.ch
DTSTAMP:20260425T142630Z
DTSTART:20260513T080000Z
DTEND:20260513T170000Z
SUMMARY:Access Bars Therapy – Deep Mental Reset (Zurich)
DESCRIPTION: Access Bars® sessions in Zurich for deep mental reset, stress relief and better sleep.\n\nhttps://eventfrog.ch/en/p/health-spirituality/health-wellbeing/access-bars-therapy-deep-mental-reset-zurich-7453558563660689566.html
LOCATION:À annoncer
URL:https://eventfrog.ch/en/p/health-spirituality/health-wellbeing/access-bars-therapy-deep-mental-reset-zurich-7453558563660689566.html
END:VEVENT
BEGIN:VEVENT
UID:20260425T142630Z-7453558563748769953@eventfrog.ch
DTSTAMP:20260425T142630Z
DTSTART:20260514T080000Z
DTEND:20260514T170000Z
SUMMARY:Access Bars Therapy – Deep Mental Reset (Zurich)
DESCRIPTION: Access Bars® sessions in Zurich for deep mental reset, stress relief and better sleep.\n\nhttps://eventfrog.ch/en/p/health-spirituality/health-wellbeing/access-bars-therapy-deep-mental-reset-zurich-7453558563748769953.html
LOCATION:À annoncer
URL:https://eventfrog.ch/en/p/health-spirituality/health-wellbeing/access-bars-therapy-deep-mental-reset-zurich-7453558563748769953.html
END:VEVENT
BEGIN:VEVENT
UID:20260425T142630Z-7453558563815878819@eventfrog.ch
DTSTAMP:20260425T142630Z
DTSTART:20260515T080000Z
DTEND:20260515T170000Z
SUMMARY:Access Bars Therapy – Deep Mental Reset (Zurich)
DESCRIPTION: Access Bars® sessions in Zurich for deep mental reset, stress relief and better sleep.\n\nhttps://eventfrog.ch/en/p/health-spirituality/health-wellbeing/access-bars-therapy-deep-mental-reset-zurich-7453558563815878819.html
LOCATION:À annoncer
URL:https://eventfrog.ch/en/p/health-spirituality/health-wellbeing/access-bars-therapy-deep-mental-reset-zurich-7453558563815878819.html
END:VEVENT
BEGIN:VEVENT
UID:20260425T142630Z-7453558563887181989@eventfrog.ch
DTSTAMP:20260425T142630Z
DTSTART:20260518T080000Z
DTEND:20260518T170000Z
SUMMARY:Access Bars Therapy – Deep Mental Reset (Zurich)
DESCRIPTION: Access Bars® sessions in Zurich for deep mental reset, stress relief and better sleep.\n\nhttps://eventfrog.ch/en/p/health-spirituality/health-wellbeing/access-bars-therapy-deep-mental-reset-zurich-7453558563887181989.html
LOCATION:À annoncer
URL:https://eventfrog.ch/en/p/health-spirituality/health-wellbeing/access-bars-therapy-deep-mental-reset-zurich-7453558563887181989.html
END:VEVENT
BEGIN:VEVENT
UID:20260425T142630Z-7453558563954290855@eventfrog.ch
DTSTAMP:20260425T142630Z
DTSTART:20260519T080000Z
DTEND:20260519T170000Z
SUMMARY:Access Bars Therapy – Deep Mental Reset (Zurich)
DESCRIPTION: Access Bars® sessions in Zurich for deep mental reset, stress relief and better sleep.\n\nhttps://eventfrog.ch/en/p/health-spirituality/health-wellbeing/access-bars-therapy-deep-mental-reset-zurich-7453558563954290855.html
LOCATION:À annoncer
URL:https://eventfrog.ch/en/p/health-spirituality/health-wellbeing/access-bars-therapy-deep-mental-reset-zurich-7453558563954290855.html
END:VEVENT
BEGIN:VEVENT
UID:20260425T142630Z-7453558564017205417@eventfrog.ch
DTSTAMP:20260425T142630Z
DTSTART:20260520T080000Z
DTEND:20260520T170000Z
SUMMARY:Access Bars Therapy – Deep Mental Reset (Zurich)
DESCRIPTION: Access Bars® sessions in Zurich for deep mental reset, stress relief and better sleep.\n\nhttps://eventfrog.ch/en/p/health-spirituality/health-wellbeing/access-bars-therapy-deep-mental-reset-zurich-7453558564017205417.html
LOCATION:À annoncer
URL:https://eventfrog.ch/en/p/health-spirituality/health-wellbeing/access-bars-therapy-deep-mental-reset-zurich-7453558564017205417.html
END:VEVENT
BEGIN:VEVENT
UID:20260425T142630Z-7453558564084314283@eventfrog.ch
DTSTAMP:20260425T142630Z
DTSTART:20260521T080000Z
DTEND:20260521T170000Z
SUMMARY:Access Bars Therapy – Deep Mental Reset (Zurich)
DESCRIPTION: Access Bars® sessions in Zurich for deep mental reset, stress relief and better sleep.\n\nhttps://eventfrog.ch/en/p/health-spirituality/health-wellbeing/access-bars-therapy-deep-mental-reset-zurich-7453558564084314283.html
LOCATION:À annoncer
URL:https://eventfrog.ch/en/p/health-spirituality/health-wellbeing/access-bars-therapy-deep-mental-reset-zurich-7453558564084314283.html
END:VEVENT
BEGIN:VEVENT
UID:20260425T142630Z-7453558564147228845@eventfrog.ch
DTSTAMP:20260425T142630Z
DTSTART:20260522T080000Z
DTEND:20260522T170000Z
SUMMARY:Access Bars Therapy – Deep Mental Reset (Zurich)
DESCRIPTION: Access Bars® sessions in Zurich for deep mental reset, stress relief and better sleep.\n\nhttps://eventfrog.ch/en/p/health-spirituality/health-wellbeing/access-bars-therapy-deep-mental-reset-zurich-7453558564147228845.html
LOCATION:À annoncer
URL:https://eventfrog.ch/en/p/health-spirituality/health-wellbeing/access-bars-therapy-deep-mental-reset-zurich-7453558564147228845.html
END:VEVENT
BEGIN:VEVENT
UID:20260425T142630Z-7453558564210143407@eventfrog.ch
DTSTAMP:20260425T142630Z
DTSTART:20260525T080000Z
DTEND:20260525T170000Z
SUMMARY:Access Bars Therapy – Deep Mental Reset (Zurich)
DESCRIPTION: Access Bars® sessions in Zurich for deep mental reset, stress relief and better sleep.\n\nhttps://eventfrog.ch/en/p/health-spirituality/health-wellbeing/access-bars-therapy-deep-mental-reset-zurich-7453558564210143407.html
LOCATION:À annoncer
URL:https://eventfrog.ch/en/p/health-spirituality/health-wellbeing/access-bars-therapy-deep-mental-reset-zurich-7453558564210143407.html
END:VEVENT
BEGIN:VEVENT
UID:20260425T142630Z-7453558564277252273@eventfrog.ch
DTSTAMP:20260425T142630Z
DTSTART:20260526T080000Z
DTEND:20260526T170000Z
SUMMARY:Access Bars Therapy – Deep Mental Reset (Zurich)
DESCRIPTION: Access Bars® sessions in Zurich for deep mental reset, stress relief and better sleep.\n\nhttps://eventfrog.ch/en/p/health-spirituality/health-wellbeing/access-bars-therapy-deep-mental-reset-zurich-7453558564277252273.html
LOCATION:À annoncer
URL:https://eventfrog.ch/en/p/health-spirituality/health-wellbeing/access-bars-therapy-deep-mental-reset-zurich-7453558564277252273.html
END:VEVENT
BEGIN:VEVENT
UID:20260425T142630Z-7453558564344361139@eventfrog.ch
DTSTAMP:20260425T142630Z
DTSTART:20260527T080000Z
DTEND:20260527T170000Z
SUMMARY:Access Bars Therapy – Deep Mental Reset (Zurich)
DESCRIPTION: Access Bars® sessions in Zurich for deep mental reset, stress relief and better sleep.\n\nhttps://eventfrog.ch/en/p/health-spirituality/health-wellbeing/access-bars-therapy-deep-mental-reset-zurich-7453558564344361139.html
LOCATION:À annoncer
URL:https://eventfrog.ch/en/p/health-spirituality/health-wellbeing/access-bars-therapy-deep-mental-reset-zurich-7453558564344361139.html
END:VEVENT
BEGIN:VEVENT
UID:20260425T142630Z-7453558564411470005@eventfrog.ch
DTSTAMP:20260425T142630Z
DTSTART:20260528T080000Z
DTEND:20260528T170000Z
SUMMARY:Access Bars Therapy – Deep Mental Reset (Zurich)
DESCRIPTION: Access Bars® sessions in Zurich for deep mental reset, stress relief and better sleep.\n\nhttps://eventfrog.ch/en/p/health-spirituality/health-wellbeing/access-bars-therapy-deep-mental-reset-zurich-7453558564411470005.html
LOCATION:À annoncer
URL:https://eventfrog.ch/en/p/health-spirituality/health-wellbeing/access-bars-therapy-deep-mental-reset-zurich-7453558564411470005.html
END:VEVENT
BEGIN:VEVENT
UID:20260425T142630Z-7453558564478578871@eventfrog.ch
DTSTAMP:20260425T142630Z
DTSTART:20260529T080000Z
DTEND:20260529T170000Z
SUMMARY:Access Bars Therapy – Deep Mental Reset (Zurich)
DESCRIPTION: Access Bars® sessions in Zurich for deep mental reset, stress relief and better sleep.\n\nhttps://eventfrog.ch/en/p/health-spirituality/health-wellbeing/access-bars-therapy-deep-mental-reset-zurich-7453558564478578871.html
LOCATION:À annoncer
URL:https://eventfrog.ch/en/p/health-spirituality/health-wellbeing/access-bars-therapy-deep-mental-reset-zurich-7453558564478578871.html
END:VEVENT
BEGIN:VEVENT
UID:20260425T142630Z-7453558564549882041@eventfrog.ch
DTSTAMP:20260425T142630Z
DTSTART:20260601T080000Z
DTEND:20260601T170000Z
SUMMARY:Access Bars Therapy – Deep Mental Reset (Zurich)
DESCRIPTION: Access Bars® sessions in Zurich for deep mental reset, stress relief and better sleep.\n\nhttps://eventfrog.ch/en/p/health-spirituality/health-wellbeing/access-bars-therapy-deep-mental-reset-zurich-7453558564549882041.html
LOCATION:À annoncer
URL:https://eventfrog.ch/en/p/health-spirituality/health-wellbeing/access-bars-therapy-deep-mental-reset-zurich-7453558564549882041.html
END:VEVENT
BEGIN:VEVENT
UID:20260425T142630Z-7453558564616990907@eventfrog.ch
DTSTAMP:20260425T142630Z
DTSTART:20260602T080000Z
DTEND:20260602T170000Z
SUMMARY:Access Bars Therapy – Deep Mental Reset (Zurich)
DESCRIPTION: Access Bars® sessions in Zurich for deep mental reset, stress relief and better sleep.\n\nhttps://eventfrog.ch/en/p/health-spirituality/health-wellbeing/access-bars-therapy-deep-mental-reset-zurich-7453558564616990907.html
LOCATION:À annoncer
URL:https://eventfrog.ch/en/p/health-spirituality/health-wellbeing/access-bars-therapy-deep-mental-reset-zurich-7453558564616990907.html
END:VEVENT
BEGIN:VEVENT
UID:20260425T142630Z-7453558564675711165@eventfrog.ch
DTSTAMP:20260425T142630Z
DTSTART:20260603T080000Z
DTEND:20260603T170000Z
SUMMARY:Access Bars Therapy – Deep Mental Reset (Zurich)
DESCRIPTION: Access Bars® sessions in Zurich for deep mental reset, stress relief and better sleep.\n\nhttps://eventfrog.ch/en/p/health-spirituality/health-wellbeing/access-bars-therapy-deep-mental-reset-zurich-7453558564675711165.html
LOCATION:À annoncer
URL:https://eventfrog.ch/en/p/health-spirituality/health-wellbeing/access-bars-therapy-deep-mental-reset-zurich-7453558564675711165.html
END:VEVENT
BEGIN:VEVENT
UID:20260425T142630Z-7453558564738625727@eventfrog.ch
DTSTAMP:20260425T142630Z
DTSTART:20260604T080000Z
DTEND:20260604T170000Z
SUMMARY:Access Bars Therapy – Deep Mental Reset (Zurich)
DESCRIPTION: Access Bars® sessions in Zurich for deep mental reset, stress relief and better sleep.\n\nhttps://eventfrog.ch/en/p/health-spirituality/health-wellbeing/access-bars-therapy-deep-mental-reset-zurich-7453558564738625727.html
LOCATION:À annoncer
URL:https://eventfrog.ch/en/p/health-spirituality/health-wellbeing/access-bars-therapy-deep-mental-reset-zurich-7453558564738625727.html
END:VEVENT
BEGIN:VEVENT
UID:20260425T142630Z-7453558564801540289@eventfrog.ch
DTSTAMP:20260425T142630Z
DTSTART:20260605T080000Z
DTEND:20260605T170000Z
SUMMARY:Access Bars Therapy – Deep Mental Reset (Zurich)
DESCRIPTION: Access Bars® sessions in Zurich for deep mental reset, stress relief and better sleep.\n\nhttps://eventfrog.ch/en/p/health-spirituality/health-wellbeing/access-bars-therapy-deep-mental-reset-zurich-7453558564801540289.html
LOCATION:À annoncer
URL:https://eventfrog.ch/en/p/health-spirituality/health-wellbeing/access-bars-therapy-deep-mental-reset-zurich-7453558564801540289.html
END:VEVENT
BEGIN:VEVENT
UID:20260425T142630Z-7453558564864454851@eventfrog.ch
DTSTAMP:20260425T142630Z
DTSTART:20260608T080000Z
DTEND:20260608T170000Z
SUMMARY:Access Bars Therapy – Deep Mental Reset (Zurich)
DESCRIPTION: Access Bars® sessions in Zurich for deep mental reset, stress relief and better sleep.\n\nhttps://eventfrog.ch/en/p/health-spirituality/health-wellbeing/access-bars-therapy-deep-mental-reset-zurich-7453558564864454851.html
LOCATION:À annoncer
URL:https://eventfrog.ch/en/p/health-spirituality/health-wellbeing/access-bars-therapy-deep-mental-reset-zurich-7453558564864454851.html
END:VEVENT
BEGIN:VEVENT
UID:20260425T142630Z-7453558564931563717@eventfrog.ch
DTSTAMP:20260425T142630Z
DTSTART:20260609T080000Z
DTEND:20260609T170000Z
SUMMARY:Access Bars Therapy – Deep Mental Reset (Zurich)
DESCRIPTION: Access Bars® sessions in Zurich for deep mental reset, stress relief and better sleep.\n\nhttps://eventfrog.ch/en/p/health-spirituality/health-wellbeing/access-bars-therapy-deep-mental-reset-zurich-7453558564931563717.html
LOCATION:À annoncer
URL:https://eventfrog.ch/en/p/health-spirituality/health-wellbeing/access-bars-therapy-deep-mental-reset-zurich-7453558564931563717.html
END:VEVENT
BEGIN:VEVENT
UID:20260425T142630Z-7453558564994478279@eventfrog.ch
DTSTAMP:20260425T142630Z
DTSTART:20260610T080000Z
DTEND:20260610T170000Z
SUMMARY:Access Bars Therapy – Deep Mental Reset (Zurich)
DESCRIPTION: Access Bars® sessions in Zurich for deep mental reset, stress relief and better sleep.\n\nhttps://eventfrog.ch/en/p/health-spirituality/health-wellbeing/access-bars-therapy-deep-mental-reset-zurich-7453558564994478279.html
LOCATION:À annoncer
URL:https://eventfrog.ch/en/p/health-spirituality/health-wellbeing/access-bars-therapy-deep-mental-reset-zurich-7453558564994478279.html
END:VEVENT
BEGIN:VEVENT
UID:20260425T142630Z-7453558565057392841@eventfrog.ch
DTSTAMP:20260425T142630Z
DTSTART:20260611T080000Z
DTEND:20260611T170000Z
SUMMARY:Access Bars Therapy – Deep Mental Reset (Zurich)
DESCRIPTION: Access Bars® sessions in Zurich for deep mental reset, stress relief and better sleep.\n\nhttps://eventfrog.ch/en/p/health-spirituality/health-wellbeing/access-bars-therapy-deep-mental-reset-zurich-7453558565057392841.html
LOCATION:À annoncer
URL:https://eventfrog.ch/en/p/health-spirituality/health-wellbeing/access-bars-therapy-deep-mental-reset-zurich-7453558565057392841.html
END:VEVENT
BEGIN:VEVENT
UID:20260425T142630Z-7453558565120307403@eventfrog.ch
DTSTAMP:20260425T142630Z
DTSTART:20260612T080000Z
DTEND:20260612T170000Z
SUMMARY:Access Bars Therapy – Deep Mental Reset (Zurich)
DESCRIPTION: Access Bars® sessions in Zurich for deep mental reset, stress relief and better sleep.\n\nhttps://eventfrog.ch/en/p/health-spirituality/health-wellbeing/access-bars-therapy-deep-mental-reset-zurich-7453558565120307403.html
LOCATION:À annoncer
URL:https://eventfrog.ch/en/p/health-spirituality/health-wellbeing/access-bars-therapy-deep-mental-reset-zurich-7453558565120307403.html
END:VEVENT
BEGIN:VEVENT
UID:20260425T142630Z-7453558565183221965@eventfrog.ch
DTSTAMP:20260425T142630Z
DTSTART:20260615T080000Z
DTEND:20260615T170000Z
SUMMARY:Access Bars Therapy – Deep Mental Reset (Zurich)
DESCRIPTION: Access Bars® sessions in Zurich for deep mental reset, stress relief and better sleep.\n\nhttps://eventfrog.ch/en/p/health-spirituality/health-wellbeing/access-bars-therapy-deep-mental-reset-zurich-7453558565183221965.html
LOCATION:À annoncer
URL:https://eventfrog.ch/en/p/health-spirituality/health-wellbeing/access-bars-therapy-deep-mental-reset-zurich-7453558565183221965.html
END:VEVENT
BEGIN:VEVENT
UID:20260425T142630Z-7453558565250330832@eventfrog.ch
DTSTAMP:20260425T142630Z
DTSTART:20260616T080000Z
DTEND:20260616T170000Z
SUMMARY:Access Bars Therapy – Deep Mental Reset (Zurich)
DESCRIPTION: Access Bars® sessions in Zurich for deep mental reset, stress relief and better sleep.\n\nhttps://eventfrog.ch/en/p/health-spirituality/health-wellbeing/access-bars-therapy-deep-mental-reset-zurich-7453558565250330832.html
LOCATION:À annoncer
URL:https://eventfrog.ch/en/p/health-spirituality/health-wellbeing/access-bars-therapy-deep-mental-reset-zurich-7453558565250330832.html
END:VEVENT
BEGIN:VEVENT
UID:20260425T142630Z-7453558565321634013@eventfrog.ch
DTSTAMP:20260425T142630Z
DTSTART:20260617T080000Z
DTEND:20260617T170000Z
SUMMARY:Access Bars Therapy – Deep Mental Reset (Zurich)
DESCRIPTION: Access Bars® sessions in Zurich for deep mental reset, stress relief and better sleep.\n\nhttps://eventfrog.ch/en/p/health-spirituality/health-wellbeing/access-bars-therapy-deep-mental-reset-zurich-7453558565321634013.html
LOCATION:À annoncer
URL:https://eventfrog.ch/en/p/health-spirituality/health-wellbeing/access-bars-therapy-deep-mental-reset-zurich-7453558565321634013.html
END:VEVENT
BEGIN:VEVENT
UID:20260425T142630Z-7453558565392937183@eventfrog.ch
DTSTAMP:20260425T142630Z
DTSTART:20260618T080000Z
DTEND:20260618T170000Z
SUMMARY:Access Bars Therapy – Deep Mental Reset (Zurich)
DESCRIPTION: Access Bars® sessions in Zurich for deep mental reset, stress relief and better sleep.\n\nhttps://eventfrog.ch/en/p/health-spirituality/health-wellbeing/access-bars-therapy-deep-mental-reset-zurich-7453558565392937183.html
LOCATION:À annoncer
URL:https://eventfrog.ch/en/p/health-spirituality/health-wellbeing/access-bars-therapy-deep-mental-reset-zurich-7453558565392937183.html
END:VEVENT
BEGIN:VEVENT
UID:20260425T142630Z-7453558565455851745@eventfrog.ch
DTSTAMP:20260425T142630Z
DTSTART:20260619T080000Z
DTEND:20260619T170000Z
SUMMARY:Access Bars Therapy – Deep Mental Reset (Zurich)
DESCRIPTION: Access Bars® sessions in Zurich for deep mental reset, stress relief and better sleep.\n\nhttps://eventfrog.ch/en/p/health-spirituality/health-wellbeing/access-bars-therapy-deep-mental-reset-zurich-7453558565455851745.html
LOCATION:À annoncer
URL:https://eventfrog.ch/en/p/health-spirituality/health-wellbeing/access-bars-therapy-deep-mental-reset-zurich-7453558565455851745.html
END:VEVENT
BEGIN:VEVENT
UID:20260425T142630Z-7453558565522960611@eventfrog.ch
DTSTAMP:20260425T142630Z
DTSTART:20260622T080000Z
DTEND:20260622T170000Z
SUMMARY:Access Bars Therapy – Deep Mental Reset (Zurich)
DESCRIPTION: Access Bars® sessions in Zurich for deep mental reset, stress relief and better sleep.\n\nhttps://eventfrog.ch/en/p/health-spirituality/health-wellbeing/access-bars-therapy-deep-mental-reset-zurich-7453558565522960611.html
LOCATION:À annoncer
URL:https://eventfrog.ch/en/p/health-spirituality/health-wellbeing/access-bars-therapy-deep-mental-reset-zurich-7453558565522960611.html
END:VEVENT
BEGIN:VEVENT
UID:20260425T142630Z-7453558565581680869@eventfrog.ch
DTSTAMP:20260425T142630Z
DTSTART:20260623T080000Z
DTEND:20260623T170000Z
SUMMARY:Access Bars Therapy – Deep Mental Reset (Zurich)
DESCRIPTION: Access Bars® sessions in Zurich for deep mental reset, stress relief and better sleep.\n\nhttps://eventfrog.ch/en/p/health-spirituality/health-wellbeing/access-bars-therapy-deep-mental-reset-zurich-7453558565581680869.html
LOCATION:À annoncer
URL:https://eventfrog.ch/en/p/health-spirituality/health-wellbeing/access-bars-therapy-deep-mental-reset-zurich-7453558565581680869.html
END:VEVENT
BEGIN:VEVENT
UID:20260425T142630Z-7453558565644595431@eventfrog.ch
DTSTAMP:20260425T142630Z
DTSTART:20260624T080000Z
DTEND:20260624T170000Z
SUMMARY:Access Bars Therapy – Deep Mental Reset (Zurich)
DESCRIPTION: Access Bars® sessions in Zurich for deep mental reset, stress relief and better sleep.\n\nhttps://eventfrog.ch/en/p/health-spirituality/health-wellbeing/access-bars-therapy-deep-mental-reset-zurich-7453558565644595431.html
LOCATION:À annoncer
URL:https://eventfrog.ch/en/p/health-spirituality/health-wellbeing/access-bars-therapy-deep-mental-reset-zurich-7453558565644595431.html
END:VEVENT
BEGIN:VEVENT
UID:20260425T142630Z-7453558565707509993@eventfrog.ch
DTSTAMP:20260425T142630Z
DTSTART:20260625T080000Z
DTEND:20260625T170000Z
SUMMARY:Access Bars Therapy – Deep Mental Reset (Zurich)
DESCRIPTION: Access Bars® sessions in Zurich for deep mental reset, stress relief and better sleep.\n\nhttps://eventfrog.ch/en/p/health-spirituality/health-wellbeing/access-bars-therapy-deep-mental-reset-zurich-7453558565707509993.html
LOCATION:À annoncer
URL:https://eventfrog.ch/en/p/health-spirituality/health-wellbeing/access-bars-therapy-deep-mental-reset-zurich-7453558565707509993.html
END:VEVENT
BEGIN:VEVENT
UID:20260425T142630Z-7453558565778813163@eventfrog.ch
DTSTAMP:20260425T142630Z
DTSTART:20260626T080000Z
DTEND:20260626T170000Z
SUMMARY:Access Bars Therapy – Deep Mental Reset (Zurich)
DESCRIPTION: Access Bars® sessions in Zurich for deep mental reset, stress relief and better sleep.\n\nhttps://eventfrog.ch/en/p/health-spirituality/health-wellbeing/access-bars-therapy-deep-mental-reset-zurich-7453558565778813163.html
LOCATION:À annoncer
URL:https://eventfrog.ch/en/p/health-spirituality/health-wellbeing/access-bars-therapy-deep-mental-reset-zurich-7453558565778813163.html
END:VEVENT
END:VCALENDAR