BEGIN:VCALENDAR
VERSION:2.0
PRODID:EVENTFROG//EVENTGROUP//ICAL
BEGIN:VEVENT
UID:20260426T042058Z-7453562807071542861@eventfrog.ch
DTSTAMP:20260426T042058Z
DTSTART:20260501T100000Z
DTEND:20260501T130000Z
SUMMARY:Live Painting
DESCRIPTION:Live Painting auf dem Bärenplatz St.Gallen\n\nhttps://eventfrog.ch/de/p/kunst-ausstellungen/live-painting-7453562807071542861.html
LOCATION:Bärenplatz
GEO:47.424963;9.376294
URL:https://eventfrog.ch/de/p/kunst-ausstellungen/live-painting-7453562807071542861.html
END:VEVENT
BEGIN:VEVENT
UID:20260426T042058Z-7453562807243509326@eventfrog.ch
DTSTAMP:20260426T042058Z
DTSTART:20260502T110000Z
DTEND:20260502T140000Z
SUMMARY:Live Painting
DESCRIPTION:Live Painting auf dem Bärenplatz St.Gallen\n\nhttps://eventfrog.ch/de/p/kunst-ausstellungen/live-painting-7453562807243509326.html
LOCATION:Bärenplatz
GEO:47.424963;9.376294
URL:https://eventfrog.ch/de/p/kunst-ausstellungen/live-painting-7453562807243509326.html
END:VEVENT
END:VCALENDAR