BEGIN:VCALENDAR
VERSION:2.0
PRODID:EVENTFROG//EVENT//ICAL
BEGIN:VEVENT
UID:20260424T024925Z-7297169530823911207@eventfrog.ch
DTSTAMP:20260424T024925Z
DTSTART:20260605T180000Z
SUMMARY:FLAMENCO - ROSAS NEGRAS
DESCRIPTION:The new program from ROSAS NEGRAS once again seduces its audience with its intense and authentic flamenco. Join us for an unforgettable flamenco night!\n\nhttps://eventfrog.ch/de/p/konzerte/world-ethno/flamenco-rosas-negras-7297169530823911207.html
LOCATION:Kammermusiksaal der Philharmonie Berlin
GEO:52.510070;13.368980
URL:https://eventfrog.ch/de/p/konzerte/world-ethno/flamenco-rosas-negras-7297169530823911207.html
END:VEVENT
END:VCALENDAR