BEGIN:VCALENDAR
VERSION:2.0
PRODID:EVENTFROG//EVENT//ICAL
BEGIN:VEVENT
UID:20260424T024927Z-7350789832317117313@eventfrog.ch
DTSTAMP:20260424T024927Z
DTSTART:20260607T180000Z
DTEND:20260607T200000Z
SUMMARY:FLAMENCO - ROSAS NEGRAS
DESCRIPTION:Intensiver Flamenco mit faszinierenden Künstlern, faszinierenden Kostümen und  einzigartigem Lichtdesign. Manuel Reina begeistert mit seinem einzigartigen Tanzstil.\n\nhttps://eventfrog.ch/de/p/konzerte/world-ethno/flamenco-rosas-negras-7350789832317117313.html
LOCATION:Laeiszhalle Hamburg
GEO:53.555335;9.979856
URL:https://eventfrog.ch/de/p/konzerte/world-ethno/flamenco-rosas-negras-7350789832317117313.html
END:VEVENT
END:VCALENDAR