BEGIN:VCALENDAR
VERSION:2.0
PRODID:EVENTFROG//EVENT//ICAL
BEGIN:VEVENT
UID:20260424T030704Z-7370043047948620414@eventfrog.ch
DTSTAMP:20260424T030704Z
DTSTART:20260824T070000Z
DTEND:20260824T160000Z
SUMMARY:Royal Academy of Dance
DESCRIPTION:Entdecke die Welt des Tanzes bei der Ballettschule "Royal Academy of Dance" in Endingen mit Kursen für Kinder & Erwachsene nach internationalen Standards.\n\nhttps://eventfrog.ch/de/p/theater-buehne/tanz/royal-academy-of-dance-7370043047948620414.html
LOCATION:Ballet Schule
GEO:48.142632;7.700138
URL:https://eventfrog.ch/de/p/theater-buehne/tanz/royal-academy-of-dance-7370043047948620414.html
END:VEVENT
END:VCALENDAR