BEGIN:VCALENDAR
VERSION:2.0
PRODID:EVENTFROG//EVENT//ICAL
BEGIN:VEVENT
UID:20260424T024806Z-7370046243748247906@eventfrog.ch
DTSTAMP:20260424T024806Z
DTSTART:20260530T070000Z
DTEND:20260530T160000Z
SUMMARY:Ballettschule „Royal Academy of Dance"
DESCRIPTION:Entdecke Tanz von früherziehung bis klassischem Ballett nach Standards der Royal Academy of Dance. Individuelle Betreuung & qualifizierter Unterricht in Endingen.\n\nhttps://eventfrog.ch/de/p/theater-buehne/tanz/ballettschule-royal-academy-of-dance-7370046243748247906.html
LOCATION:Ballet Schule
URL:https://eventfrog.ch/de/p/theater-buehne/tanz/ballettschule-royal-academy-of-dance-7370046243748247906.html
END:VEVENT
END:VCALENDAR