BEGIN:VCALENDAR
VERSION:2.0
PRODID:EVENTFROG//EVENT//ICAL
BEGIN:VEVENT
UID:20260424T024806Z-7411090433290294334@eventfrog.ch
DTSTAMP:20260424T024806Z
DTSTART:20260502T170000Z
DTEND:20260502T190000Z
SUMMARY:Duo DUVA: Midsommar
DESCRIPTION:Midsommar. Das duo DUVA, Elena Schmidt-Arras und Klaus Frech, singt und spielt alte nordische Lieder in eigenen Arrangements. Mit Humor werden die Geschichten hinter den Liedern erzählt.\n\nhttps://eventfrog.ch/de/p/konzerte/world-ethno/duo-duva-midsommar-7411090433290294334.html
LOCATION:Kultur- und Tagungszentrum
GEO:47.677723;11.198666
URL:https://eventfrog.ch/de/p/konzerte/world-ethno/duo-duva-midsommar-7411090433290294334.html
END:VEVENT
END:VCALENDAR