BEGIN:VCALENDAR
VERSION:2.0
PRODID:EVENTFROG//EVENT//ICAL
BEGIN:VEVENT
UID:20260424T024925Z-7413983108842692568@eventfrog.ch
DTSTAMP:20260424T024925Z
DTSTART:20260425T180000Z
DTEND:20260425T200000Z
SUMMARY:Dance of Joy - Klezmer
DESCRIPTION:Das Quartett Dance of Joy verbindet Klezmer mit Bach bis Bernstein und verbindet Kulturen durch Musik von Osteuropa bis zum Orient.\n\nhttps://eventfrog.ch/de/p/konzerte/world-ethno/dance-of-joy-klezmer-7413983108842692568.html
LOCATION:Kulturzentrum Altes Rathaus
GEO:50.820015;6.131880
URL:https://eventfrog.ch/de/p/konzerte/world-ethno/dance-of-joy-klezmer-7413983108842692568.html
END:VEVENT
END:VCALENDAR