BEGIN:VCALENDAR
VERSION:2.0
PRODID:EVENTFROG//EVENT//ICAL
BEGIN:VEVENT
UID:20260424T024806Z-7417632555527075046@eventfrog.ch
DTSTAMP:20260424T024806Z
DTSTART:20260530T170000Z
SUMMARY:Dance Unit World FINALS Gala
DESCRIPTION:Join us for an unforgettable evening at the Dance Unit Gala, featuring the most original and inspiring choreographies of the season\n\nhttps://eventfrog.ch/de/p/theater-buehne/tanz/dance-unit-world-finals-gala-7417632555527075046.html
LOCATION:Olympia Halle Innsbruck
GEO:47.258073;11.410691
URL:https://eventfrog.ch/de/p/theater-buehne/tanz/dance-unit-world-finals-gala-7417632555527075046.html
END:VEVENT
END:VCALENDAR