BEGIN:VCALENDAR
VERSION:2.0
PRODID:EVENTFROG//EVENT//ICAL
BEGIN:VEVENT
UID:20260424T024837Z-7419392229049910064@eventfrog.ch
DTSTAMP:20260424T024837Z
DTSTART:20260424T180000Z
SUMMARY:MIGRANTPOLITAN Jam-Session
DESCRIPTION:Im MIGRANTPOLITAN auf Kampnagel findet eine offene Jam-Session zur Förderung transkulturellen Austauschs und neuer ästhetischer Ideen statt.\n\nhttps://eventfrog.ch/de/p/diverses/migrantpolitan-jam-session-7419392229049910064.html
LOCATION:Kampnagel, Internationale Kulturfabrik
GEO:53.583863;10.020338
URL:https://eventfrog.ch/de/p/diverses/migrantpolitan-jam-session-7419392229049910064.html
END:VEVENT
END:VCALENDAR