BEGIN:VCALENDAR
VERSION:2.0
PRODID:EVENTFROG//EVENT//ICAL
BEGIN:VEVENT
UID:20260424T024943Z-7420813544969501215@eventfrog.ch
DTSTAMP:20260424T024943Z
DTSTART:20260516T180000Z
DTEND:20260516T210000Z
SUMMARY:PAUL DWYER & THE BANDITS
DESCRIPTION:«Bridging Cultures» verbindet anatolische Klänge mit irischen und schottischen Folk-Melodien in einer Fusion aus Ethno, Rock und Pop.\n\nhttps://eventfrog.ch/de/p/konzerte/world-ethno/paul-dwyer-the-bandits-7420813544969501215.html
LOCATION:Passionskirche
GEO:52.489505;13.397187
URL:https://eventfrog.ch/de/p/konzerte/world-ethno/paul-dwyer-the-bandits-7420813544969501215.html
END:VEVENT
END:VCALENDAR