BEGIN:VCALENDAR
VERSION:2.0
PRODID:EVENTFROG//EVENT//ICAL
BEGIN:VEVENT
UID:20260424T024909Z-7423041490492879189@eventfrog.ch
DTSTAMP:20260424T024909Z
DTSTART:20260508T180000Z
SUMMARY:ŞENGÜL PAK
DESCRIPTION:Die Musikerin Şengül Pak verbindet traditionelle Kılams aus Dersim mit zeitgenössischer Musik in Kurdisch und trommelt vielfältig.\n\nhttps://eventfrog.ch/de/p/konzerte/world-ethno/enguel-pak-7423041490492879189.html
LOCATION:Lutherkirche
GEO:50.919750;6.953033
URL:https://eventfrog.ch/de/p/konzerte/world-ethno/enguel-pak-7423041490492879189.html
END:VEVENT
END:VCALENDAR