BEGIN:VCALENDAR
VERSION:2.0
PRODID:EVENTFROG//EVENT//ICAL
BEGIN:VEVENT
UID:20260424T025017Z-7424718861755257739@eventfrog.ch
DTSTAMP:20260424T025017Z
DTSTART:20260612T170000Z
DTEND:20260612T183000Z
SUMMARY:Mary Anibal - Afrofusion aus Simbabwe
DESCRIPTION:Livekonzert von der Sängerin und Mbira-Virtuosin Mary Anibal aus Simbabwe. \n\nhttps://eventfrog.ch/de/p/konzerte/world-ethno/mary-anibal-afrofusion-aus-simbabwe-7424718861755257739.html
LOCATION:Melanchthon-Kirche Spandau
GEO:52.521394;13.189312
URL:https://eventfrog.ch/de/p/konzerte/world-ethno/mary-anibal-afrofusion-aus-simbabwe-7424718861755257739.html
END:VEVENT
END:VCALENDAR