BEGIN:VCALENDAR
VERSION:2.0
PRODID:EVENTFROG//EVENT//ICAL
BEGIN:VEVENT
UID:20260424T024839Z-7426926686103407928@eventfrog.ch
DTSTAMP:20260424T024839Z
DTSTART:20260506T180000Z
DTEND:20260506T193000Z
SUMMARY:Orchestra Mondo - Tango meets Gypsy
DESCRIPTION:Die musikalische Reise dieses Quartetts erstreckt sich von Tango über verträumtes Musette bis hin zu energetischem Gypsy-Swing.\n\nhttps://eventfrog.ch/de/p/konzerte/world-ethno/orchestra-mondo-tango-meets-gypsy-7426926686103407928.html
LOCATION:Furthmühle, Egenhofen
GEO:48.259468;11.183748
URL:https://eventfrog.ch/de/p/konzerte/world-ethno/orchestra-mondo-tango-meets-gypsy-7426926686103407928.html
END:VEVENT
END:VCALENDAR