BEGIN:VCALENDAR
VERSION:2.0
PRODID:EVENTFROG//EVENT//ICAL
BEGIN:VEVENT
UID:20260424T024927Z-7427719127622522445@eventfrog.ch
DTSTAMP:20260424T024927Z
DTSTART:20260510T180000Z
SUMMARY:Gidiki (Athen) - Unity in Diversity 2026
DESCRIPTION:Die 2014 gegründete Band Gidiki verbindet griechische Tradition mit modernen Klängen und begeistert international.\n\nhttps://eventfrog.ch/de/p/konzerte/world-ethno/gidiki-athen-unity-in-diversity-2026-7427719127622522445.html
LOCATION:Lutherkirche
GEO:50.919750;6.953033
URL:https://eventfrog.ch/de/p/konzerte/world-ethno/gidiki-athen-unity-in-diversity-2026-7427719127622522445.html
END:VEVENT
END:VCALENDAR