BEGIN:VCALENDAR
VERSION:2.0
PRODID:EVENTFROG//EVENT//ICAL
BEGIN:VEVENT
UID:20260424T024839Z-7427987041294498846@eventfrog.ch
DTSTAMP:20260424T024839Z
DTSTART:20260523T180000Z
SUMMARY:FLAMENCO - ROSAS NEGRAS
DESCRIPTION:Die 7 Künstler von ROSAS NEGRAS präsentieren  virtuosen Flamenco zwischen Tradition und Moderne. \n\nhttps://eventfrog.ch/de/p/konzerte/world-ethno/flamenco-rosas-negras-7427987041294498846.html
LOCATION:Konzertsaal Friedenskapelle, Münster
GEO:51.935630;7.648430
URL:https://eventfrog.ch/de/p/konzerte/world-ethno/flamenco-rosas-negras-7427987041294498846.html
END:VEVENT
END:VCALENDAR