BEGIN:VCALENDAR
VERSION:2.0
PRODID:EVENTFROG//EVENT//ICAL
BEGIN:VEVENT
UID:20260424T024924Z-7428139004439096106@eventfrog.ch
DTSTAMP:20260424T024924Z
DTSTART:20260623T180000Z
SUMMARY:Liquid Soul – Musik aus Luft & Wasser
DESCRIPTION:Liquid Soul spielen mit den Elementen Luft & Wasser und nehmen ihr Publikum mit in ihre ganz eigene Wasser-Klang-Welt.\n\nhttps://eventfrog.ch/de/p/konzerte/world-ethno/liquid-soul-musik-aus-luft-wasser-7428139004439096106.html
LOCATION:Kirche St. Michaelis Sagard
GEO:54.526626;13.555915
URL:https://eventfrog.ch/de/p/konzerte/world-ethno/liquid-soul-musik-aus-luft-wasser-7428139004439096106.html
END:VEVENT
END:VCALENDAR