BEGIN:VCALENDAR
VERSION:2.0
PRODID:EVENTFROG//EVENT//ICAL
BEGIN:VEVENT
UID:20260424T024837Z-7429022235359245814@eventfrog.ch
DTSTAMP:20260424T024837Z
DTSTART:20260524T170000Z
SUMMARY:FLAMENCO - ROSAS NEGRAS
DESCRIPTION:Eine unvergessliche Flamenconacht zwischen Tradition und Moderne und einem Hauch Magie. \n\nhttps://eventfrog.ch/de/p/konzerte/world-ethno/flamenco-rosas-negras-7429022235359245814.html
LOCATION:Capitol Offenbach
GEO:50.095636;8.776084
URL:https://eventfrog.ch/de/p/konzerte/world-ethno/flamenco-rosas-negras-7429022235359245814.html
END:VEVENT
END:VCALENDAR