BEGIN:VCALENDAR
VERSION:2.0
PRODID:EVENTFROG//EVENT//ICAL
BEGIN:VEVENT
UID:20260424T024840Z-7429107252903020441@eventfrog.ch
DTSTAMP:20260424T024840Z
DTSTART:20260628T170000Z
SUMMARY:FLAMENC0 - ROSAS NEGRAS
DESCRIPTION:Eine unvergessliche Flamenconacht zwischen Tradition und Moderne und einem Hauch Magie. \n\nhttps://eventfrog.ch/de/p/konzerte/world-ethno/flamenc0-rosas-negras-7429107252903020441.html
LOCATION:Gewandhaus Leipzig, Mendelssohnsaal
GEO:51.337715;12.381158
URL:https://eventfrog.ch/de/p/konzerte/world-ethno/flamenc0-rosas-negras-7429107252903020441.html
END:VEVENT
END:VCALENDAR