BEGIN:VCALENDAR
VERSION:2.0
PRODID:EVENTFROG//EVENT//ICAL
BEGIN:VEVENT
UID:20260424T024925Z-7431003264592668734@eventfrog.ch
DTSTAMP:20260424T024925Z
DTSTART:20260425T173000Z
DTEND:20260425T183000Z
SUMMARY:"Der Mond"
DESCRIPTION:Die Theatergruppe TOBAK der inklusiven Kulturfabrik KUFA zeigt «Der Mond», eine freie Bearbeitung des Grimm-Märchens.\n\nhttps://eventfrog.ch/de/p/theater-buehne/theater/der-mond-7431003264592668734.html
LOCATION:KUFA Kultur für Alle
GEO:49.899227;10.921699
URL:https://eventfrog.ch/de/p/theater-buehne/theater/der-mond-7431003264592668734.html
END:VEVENT
END:VCALENDAR