BEGIN:VCALENDAR
VERSION:2.0
PRODID:EVENTFROG//EVENT//ICAL
BEGIN:VEVENT
UID:20260424T024805Z-7433822822793757318@eventfrog.ch
DTSTAMP:20260424T024805Z
DTSTART:20260522T180000Z
DTEND:20260522T210000Z
SUMMARY:Godfrey and the Grand Sons
DESCRIPTION:«Godfrey and the Grand Sons» eröffnen das Afrika Festival in Birkenried 2026 mit authentischem Roots-Reggae und inspirierenden Botschaften.\n\nhttps://eventfrog.ch/de/p/konzerte/world-ethno/godfrey-and-the-grand-sons-7433822822793757318.html
LOCATION:Birkenried Kulturgewächshaus
GEO:48.499043;10.307623
URL:https://eventfrog.ch/de/p/konzerte/world-ethno/godfrey-and-the-grand-sons-7433822822793757318.html
END:VEVENT
END:VCALENDAR