BEGIN:VCALENDAR
VERSION:2.0
PRODID:EVENTFROG//EVENT//ICAL
BEGIN:VEVENT
UID:20260424T024839Z-7434283035195897018@eventfrog.ch
DTSTAMP:20260424T024839Z
DTSTART:20260501T180000Z
DTEND:20260501T210000Z
SUMMARY:Sonkomusic
DESCRIPTION:SONKOMUSIC präsentiert farbenfrohe interkulturelle Musik mit treibenden Beats und vielfältiger Band, ein akustisches Festmahl für Musikliebhaber.\n\nhttps://eventfrog.ch/de/p/konzerte/world-ethno/sonkomusic-7434283035195897018.html
LOCATION:Brickhouse Berlin
GEO:52.550323;13.443245
URL:https://eventfrog.ch/de/p/konzerte/world-ethno/sonkomusic-7434283035195897018.html
END:VEVENT
END:VCALENDAR