BEGIN:VCALENDAR
VERSION:2.0
PRODID:EVENTFROG//EVENT//ICAL
BEGIN:VEVENT
UID:20260424T024808Z-7435718524453028013@eventfrog.ch
DTSTAMP:20260424T024808Z
DTSTART:20260426T090000Z
DTEND:20260426T110000Z
SUMMARY:DRAG BRUNCH im calvi
DESCRIPTION:Drag Brunch im calvi\n\nhttps://eventfrog.ch/de/p/musicals-shows/travestie/drag-brunch-im-calvi-7435718524453028013.html
LOCATION:CALVI - café & vintage clothing
GEO:48.397756;9.993182
URL:https://eventfrog.ch/de/p/musicals-shows/travestie/drag-brunch-im-calvi-7435718524453028013.html
END:VEVENT
END:VCALENDAR