BEGIN:VCALENDAR
VERSION:2.0
PRODID:EVENTFROG//EVENT//ICAL
BEGIN:VEVENT
UID:20260424T024941Z-7440432647594113417@eventfrog.ch
DTSTAMP:20260424T024941Z
DTSTART:20260530T073000Z
DTEND:20260530T160000Z
SUMMARY:XXL IMMOBILIENTAG BONN
DESCRIPTION:Der XXL IMMOBILIENTAG BONN bietet ganztägig Vorträge, Networking und Einblicke in Immobilienmarkttrends für Fachleute und Interessierte.\n\nhttps://eventfrog.ch/de/p/messen/kongress-tagung/xxl-immobilientag-bonn-7440432647594113417.html
LOCATION:Bundeskanzlerplatz 2, 53113 Bonn, DE
GEO:50.719095;7.117365
URL:https://eventfrog.ch/de/p/messen/kongress-tagung/xxl-immobilientag-bonn-7440432647594113417.html
END:VEVENT
END:VCALENDAR