BEGIN:VCALENDAR
VERSION:2.0
PRODID:EVENTFROG//EVENTGROUP//ICAL
BEGIN:VEVENT
UID:20260424T024837Z-7348804230646352383@eventfrog.ch
DTSTAMP:20260424T024837Z
DTSTART:20260301T163000Z
DTEND:20260301T210000Z
SUMMARY:Original Wirtshauskrimi in Linz
DESCRIPTION:Herrschaftszeiten! Schee, dass Sie sich für die besten Ermittlungen in Oberösterreich entschieden haben - und das auch noch auf dem schönen Pöstlingberg in Linz.\n\nhttps://eventfrog.ch/de/p/theater-buehne/comedy-kabarett/original-wirtshauskrimi-in-linz-7348804230646352383.html
LOCATION:Freiseder
GEO:48.321350;14.255450
URL:https://eventfrog.ch/de/p/theater-buehne/comedy-kabarett/original-wirtshauskrimi-in-linz-7348804230646352383.html
END:VEVENT
BEGIN:VEVENT
UID:20260424T024837Z-7348806834646445351@eventfrog.ch
DTSTAMP:20260424T024837Z
DTSTART:20260726T153000Z
DTEND:20260726T200000Z
SUMMARY:Der Sommernachtskrimi in Linz
DESCRIPTION:Herrschaftszeiten! Schee, dass Sie sich für die besten Ermittlungen in Oberösterreich entschieden haben - und das auch noch auf dem schönen Pöstlingberg in Linz.\n\nhttps://eventfrog.ch/de/p/theater-buehne/comedy-kabarett/der-sommernachtskrimi-in-linz-7348806834646445351.html
LOCATION:Freiseder
GEO:48.321350;14.255450
URL:https://eventfrog.ch/de/p/theater-buehne/comedy-kabarett/der-sommernachtskrimi-in-linz-7348806834646445351.html
END:VEVENT
BEGIN:VEVENT
UID:20260424T024837Z-7379149265015171384@eventfrog.ch
DTSTAMP:20260424T024837Z
DTSTART:20260726T153000Z
DTEND:20260726T200000Z
SUMMARY:Der Sommernachtskrimi in Linz
DESCRIPTION:Herrschaftszeiten! Schee, dass Sie sich für die besten Ermittlungen in Oberösterreich entschieden haben - und das auch noch auf dem schönen Pöstlingberg in Linz.\n\nhttps://eventfrog.ch/de/p/theater-buehne/comedy-kabarett/der-sommernachtskrimi-in-linz-7379149265015171384.html
LOCATION:Freiseder
GEO:48.321350;14.255450
URL:https://eventfrog.ch/de/p/theater-buehne/comedy-kabarett/der-sommernachtskrimi-in-linz-7379149265015171384.html
END:VEVENT
BEGIN:VEVENT
UID:20260424T024837Z-7436696421737181884@eventfrog.ch
DTSTAMP:20260424T024837Z
DTSTART:20261022T153000Z
DTEND:20261022T200000Z
SUMMARY:Original Wirtshauskrimi in Linz
DESCRIPTION:Herrschaftszeiten! Schee, dass Sie sich für die besten Ermittlungen in Oberösterreich entschieden haben - und das auch noch auf dem schönen Pöstlingberg in Linz.\n\nhttps://eventfrog.ch/de/p/theater-buehne/comedy-kabarett/original-wirtshauskrimi-in-linz-7436696421737181884.html
LOCATION:Freiseder
GEO:48.321350;14.255450
URL:https://eventfrog.ch/de/p/theater-buehne/comedy-kabarett/original-wirtshauskrimi-in-linz-7436696421737181884.html
END:VEVENT
BEGIN:VEVENT
UID:20260424T024837Z-7348807430002742065@eventfrog.ch
DTSTAMP:20260424T024837Z
DTSTART:20261108T163000Z
DTEND:20261108T210000Z
SUMMARY:Original Wirtshauskrimi in Linz
DESCRIPTION:Herrschaftszeiten! Schee, dass Sie sich für die besten Ermittlungen in Oberösterreich entschieden haben - und das auch noch auf dem schönen Pöstlingberg in Linz.\n\nhttps://eventfrog.ch/de/p/theater-buehne/comedy-kabarett/original-wirtshauskrimi-in-linz-7348807430002742065.html
LOCATION:Freiseder
GEO:48.321350;14.255450
URL:https://eventfrog.ch/de/p/theater-buehne/comedy-kabarett/original-wirtshauskrimi-in-linz-7348807430002742065.html
END:VEVENT
END:VCALENDAR