BEGIN:VCALENDAR
VERSION:2.0
PRODID:EVENTFROG//EVENTGROUP//ICAL
BEGIN:VEVENT
UID:20260424T024839Z-7399793527410958861@eventfrog.ch
DTSTAMP:20260424T024839Z
DTSTART:20260425T090000Z
DTEND:20260425T170000Z
SUMMARY:Spiritualität & Heilen
DESCRIPTION:Eintritt Tagesticket: Regulär 13,00  / Ermäßigt 11,00  (für Schüler, Studenten, Senioren etc.); Kinder bis 14 Jahre frei. (Dauerkarte zwei Tage: 22,00 ); Eintrittskarten gibt es nur an der Tageskas\n\nhttps://eventfrog.ch/de/p/messen/kongress-tagung/spiritualitaet-heilen-7399793527410958861.html
LOCATION:Löwenbräukeller - München
GEO:48.147933;11.556979
URL:https://eventfrog.ch/de/p/messen/kongress-tagung/spiritualitaet-heilen-7399793527410958861.html
END:VEVENT
BEGIN:VEVENT
UID:20260424T024839Z-7399793602577087755@eventfrog.ch
DTSTAMP:20260424T024839Z
DTSTART:20260426T090000Z
DTEND:20260426T160000Z
SUMMARY:Spiritualität & Heilen
DESCRIPTION:Die "Spiritualität & Heilen" ist eine Publikumsmesse für gesundheitliche und spirituelle Themen, mit einem großen Angebot an Produkten, Beratungen und Therapiemöglichkeiten, sowie einem umfangreichen \n\nhttps://eventfrog.ch/de/p/messen/kongress-tagung/spiritualitaet-heilen-7399793602577087755.html
LOCATION:Löwenbräukeller - München
GEO:48.147933;11.556979
URL:https://eventfrog.ch/de/p/messen/kongress-tagung/spiritualitaet-heilen-7399793602577087755.html
END:VEVENT
END:VCALENDAR