BEGIN:VCALENDAR
VERSION:2.0
PRODID:EVENTFROG//EVENTGROUP//ICAL
BEGIN:VEVENT
UID:20260424T024942Z-7407468646967043605@eventfrog.ch
DTSTAMP:20260424T024942Z
DTSTART:20260527T053000Z
SUMMARY:Dance Unit WORLD FINALS
DESCRIPTION:The Dance Unit WORLD FINALS is the ultimate event of the year, where top dancers and choreographers compete for a nomination to the prestigious Dance Unit Gala. Don't miss out—get your tickets now!\n\nhttps://eventfrog.ch/de/p/theater-buehne/tanz/dance-unit-world-finals-7407468646967043605.html
LOCATION:Olympiaworld Innsbruck
GEO:47.258073;11.410691
URL:https://eventfrog.ch/de/p/theater-buehne/tanz/dance-unit-world-finals-7407468646967043605.html
END:VEVENT
BEGIN:VEVENT
UID:20260424T024942Z-7407476195237845711@eventfrog.ch
DTSTAMP:20260424T024942Z
DTSTART:20260528T053000Z
SUMMARY:Dance Unit WORLD FINALS
DESCRIPTION:The Dance Unit WORLD FINALS is the ultimate event of the year, where top dancers and choreographers compete for a nomination to the prestigious Dance Unit Gala. Don't miss out—get your tickets now!\n\nhttps://eventfrog.ch/de/p/theater-buehne/tanz/dance-unit-world-finals-7407476195237845711.html
LOCATION:Olympia Halle Innsbruck
GEO:47.258073;11.410691
URL:https://eventfrog.ch/de/p/theater-buehne/tanz/dance-unit-world-finals-7407476195237845711.html
END:VEVENT
BEGIN:VEVENT
UID:20260424T024942Z-7407476195510476113@eventfrog.ch
DTSTAMP:20260424T024942Z
DTSTART:20260529T053000Z
SUMMARY:Dance Unit WORLD FINALS
DESCRIPTION:The Dance Unit WORLD FINALS is the ultimate event of the year, where top dancers and choreographers compete for a nomination to the prestigious Dance Unit Gala. Don't miss out—get your tickets now!\n\nhttps://eventfrog.ch/de/p/theater-buehne/tanz/dance-unit-world-finals-7407476195510476113.html
LOCATION:Olympia Halle Innsbruck
GEO:47.258073;11.410691
URL:https://eventfrog.ch/de/p/theater-buehne/tanz/dance-unit-world-finals-7407476195510476113.html
END:VEVENT
BEGIN:VEVENT
UID:20260424T024942Z-7407476195653082508@eventfrog.ch
DTSTAMP:20260424T024942Z
DTSTART:20260530T053000Z
SUMMARY:Dance Unit WORLD FINALS
DESCRIPTION:The Dance Unit WORLD FINALS is the ultimate event of the year, where top dancers and choreographers compete for a nomination to the prestigious Dance Unit Gala. Don't miss out—get your tickets now!\n\nhttps://eventfrog.ch/de/p/theater-buehne/tanz/dance-unit-world-finals-7407476195653082508.html
LOCATION:Olympia Halle Innsbruck
GEO:47.258073;11.410691
URL:https://eventfrog.ch/de/p/theater-buehne/tanz/dance-unit-world-finals-7407476195653082508.html
END:VEVENT
BEGIN:VEVENT
UID:20260424T024942Z-7407476195778911647@eventfrog.ch
DTSTAMP:20260424T024942Z
DTSTART:20260531T053000Z
SUMMARY:Dance Unit WORLD FINALS
DESCRIPTION:The Dance Unit WORLD FINALS is the ultimate event of the year, where top dancers and choreographers compete for a nomination to the prestigious Dance Unit Gala. Don't miss out—get your tickets now!\n\nhttps://eventfrog.ch/de/p/theater-buehne/tanz/dance-unit-world-finals-7407476195778911647.html
LOCATION:Olympia Halle Innsbruck
GEO:47.258073;11.410691
URL:https://eventfrog.ch/de/p/theater-buehne/tanz/dance-unit-world-finals-7407476195778911647.html
END:VEVENT
END:VCALENDAR