BEGIN:VCALENDAR
VERSION:2.0
PRODID:EVENTFROG//EVENTGROUP//ICAL
BEGIN:VEVENT
UID:20260424T024838Z-7436714031744827944@eventfrog.ch
DTSTAMP:20260424T024838Z
DTSTART:20260426T080000Z
DTEND:20260426T093000Z
SUMMARY:Kinderfahrradschule: Vom Laufrad zum Fahrrad
DESCRIPTION:Wir wollen mit der Kinderfahrradschule den Kids die Freude am Radfahren vermitteln. \n\nhttps://eventfrog.ch/de/p/kinderveranstaltungen/kurs/kinderfahrradschule-vom-laufrad-zum-fahrrad-7436714031744827944.html
LOCATION:SPRINGMÄUSCHEN - Hier turnen Kinder von 0 bis 6
GEO:51.321658;12.405620
URL:https://eventfrog.ch/de/p/kinderveranstaltungen/kurs/kinderfahrradschule-vom-laufrad-zum-fahrrad-7436714031744827944.html
END:VEVENT
BEGIN:VEVENT
UID:20260424T024838Z-7436714057627879945@eventfrog.ch
DTSTAMP:20260424T024838Z
DTSTART:20260510T080000Z
DTEND:20260510T093000Z
SUMMARY:Kinderfahrradschule: Vom Laufrad zum Fahrrad
DESCRIPTION:Wir wollen mit der Kinderfahrradschule den Kids die Freude am Radfahren vermitteln. \n\nhttps://eventfrog.ch/de/p/kinderveranstaltungen/kurs/kinderfahrradschule-vom-laufrad-zum-fahrrad-7436714057627879945.html
LOCATION:SPRINGMÄUSCHEN - Hier turnen Kinder von 0 bis 6
GEO:51.321658;12.405620
URL:https://eventfrog.ch/de/p/kinderveranstaltungen/kurs/kinderfahrradschule-vom-laufrad-zum-fahrrad-7436714057627879945.html
END:VEVENT
END:VCALENDAR